BEGIN:VCALENDAR
VERSION:2.0
PRODID:-//213.154.231.201//NONSGML kigkonsult.se iCalcreator 2.20//
CALSCALE:GREGORIAN
METHOD:PUBLISH
X-WR-TIMEZONE:Europe/Amsterdam
BEGIN:VEVENT
UID:event370@Piratenkoor "de Stormvogels"
DTSTAMP:20260424T191553Z
CATEGORIES:Openbaar    K.i.
DESCRIPTION:Drentse wandel 4-daagse  'AFGELAST'\nCategorie: Openbaar    K.i
 .\nLink: http://piratenkoor.destormvogels.nl/index.php?option=com_jem&view
 =event&id=370:drentse-wandel-4-daagse\n
DTSTART;TZID=Europe/Amsterdam:20200522T130000
DTEND;TZID=Europe/Amsterdam:20200522T160000
LOCATION:Odoorn\,Odoorn
SUMMARY:Drentse wandel 4-daagse  'AFGELAST'
URL:http://piratenkoor.destormvogels.nl/index.php?option=com_jem&view=event
 &id=370:drentse-wandel-4-daagse
END:VEVENT
END:VCALENDAR