BEGIN:VCALENDAR
VERSION:2.0
PRODID:-//213.154.231.201//NONSGML kigkonsult.se iCalcreator 2.20//
CALSCALE:GREGORIAN
METHOD:PUBLISH
X-WR-TIMEZONE:Europe/Amsterdam
BEGIN:VEVENT
UID:event371@Piratenkoor "de Stormvogels"
DTSTAMP:20260425T032641Z
CATEGORIES:Openbaar   Derden
DESCRIPTION:Jutterdagen  'Afgelast'\nCategorie: Openbaar   Derden\nLink: ht
 tp://piratenkoor.destormvogels.nl/index.php?option=com_jem&view=event&id=3
 71:jutterdagen\n
DTSTART;TZID=Europe/Amsterdam:20200705T130000
DTEND;TZID=Europe/Amsterdam:20200705T170000
LOCATION:Den Helder\,Den Helder
SUMMARY:Jutterdagen  'Afgelast'
URL:http://piratenkoor.destormvogels.nl/index.php?option=com_jem&view=event
 &id=371:jutterdagen
END:VEVENT
END:VCALENDAR