BEGIN:VCALENDAR
VERSION:2.0
PRODID:-//213.154.231.201//NONSGML kigkonsult.se iCalcreator 2.20//
CALSCALE:GREGORIAN
METHOD:PUBLISH
X-WR-TIMEZONE:Europe/Amsterdam
BEGIN:VEVENT
UID:event378@Piratenkoor "de Stormvogels"
DTSTAMP:20260424T133802Z
CATEGORIES:Besloten    Onb
DESCRIPTION:Eerste repetitieavond\nCategorie: Besloten    Onb\nLink: http:/
 /piratenkoor.destormvogels.nl/index.php?option=com_jem&view=event&id=378:e
 erste-repetitieavond\n
DTSTART;TZID=Europe/Amsterdam:20210629T193000
DTEND;TZID=Europe/Amsterdam:20210629T193000
LOCATION:'t Schienvat op Erica\,Heidebloemstraat 4\,7887 EB Erica
SUMMARY:Eerste repetitieavond
URL:http://piratenkoor.destormvogels.nl/index.php?option=com_jem&view=event
 &id=378:eerste-repetitieavond
END:VEVENT
END:VCALENDAR