BEGIN:VCALENDAR
VERSION:2.0
PRODID:-//213.154.231.201//NONSGML kigkonsult.se iCalcreator 2.20//
CALSCALE:GREGORIAN
METHOD:PUBLISH
X-WR-TIMEZONE:Europe/Amsterdam
BEGIN:VEVENT
UID:event379@Piratenkoor "de Stormvogels"
DTSTAMP:20260424T180453Z
CATEGORIES:Openbaar    Onb
DESCRIPTION:Stormvogels in het Schienvat\nCategorie: Openbaar    Onb\nLink:
  http://piratenkoor.destormvogels.nl/index.php?option=com_jem&view=event&i
 d=379:stormvogels-in-het-schienvat\n
DTSTART;TZID=Europe/Amsterdam:20211016T200000
DTEND;TZID=Europe/Amsterdam:20211016T223000
LOCATION:'t Schienvat op Erica\,Heidebloemstraat 4\,7887 EB Erica
SUMMARY:Stormvogels in het Schienvat
URL:http://piratenkoor.destormvogels.nl/index.php?option=com_jem&view=event
 &id=379:stormvogels-in-het-schienvat
END:VEVENT
END:VCALENDAR