BEGIN:VCALENDAR
VERSION:2.0
PRODID:-//213.154.231.201//NONSGML kigkonsult.se iCalcreator 2.20//
CALSCALE:GREGORIAN
METHOD:PUBLISH
X-WR-TIMEZONE:Europe/Amsterdam
BEGIN:VEVENT
UID:event383@Piratenkoor "de Stormvogels"
DTSTAMP:20260424T165113Z
CATEGORIES:Besloten    Onb
DESCRIPTION:Eerste repetitieavond najaar 2021\nCategorie: Besloten    Onb\n
 Link: http://piratenkoor.destormvogels.nl/index.php?option=com_jem&view=ev
 ent&id=383:eerste-repetitieavond-najaar-2021\n
DTSTART;TZID=Europe/Amsterdam:20210824T193000
DTEND;TZID=Europe/Amsterdam:20210824T213000
LOCATION:'t Schienvat op Erica\,Heidebloemstraat 4\,7887 EB Erica
SUMMARY:Eerste repetitieavond najaar 2021
URL:http://piratenkoor.destormvogels.nl/index.php?option=com_jem&view=event
 &id=383:eerste-repetitieavond-najaar-2021
END:VEVENT
END:VCALENDAR