BEGIN:VCALENDAR
VERSION:2.0
PRODID:-//213.154.231.201//NONSGML kigkonsult.se iCalcreator 2.20//
CALSCALE:GREGORIAN
METHOD:PUBLISH
X-WR-TIMEZONE:Europe/Amsterdam
BEGIN:VEVENT
UID:event389@Piratenkoor "de Stormvogels"
DTSTAMP:20260425T171133Z
CATEGORIES:Openbaar    K.i.
DESCRIPTION:Fietsvierdaagse\nCategorie: Openbaar    K.i.\nLink: http://pira
 tenkoor.destormvogels.nl/index.php?option=com_jem&view=event&id=389:fietsv
 ierdaagse\n
DTSTART;TZID=Europe/Amsterdam:20220721T193000
DTEND;TZID=Europe/Amsterdam:20220721T220000
LOCATION:Emmen\, Angelslo\,Emmen
SUMMARY:Fietsvierdaagse
URL:http://piratenkoor.destormvogels.nl/index.php?option=com_jem&view=event
 &id=389:fietsvierdaagse
END:VEVENT
END:VCALENDAR