BEGIN:VCALENDAR
VERSION:2.0
PRODID:-//213.154.231.201//NONSGML kigkonsult.se iCalcreator 2.20//
CALSCALE:GREGORIAN
METHOD:PUBLISH
X-WR-TIMEZONE:Europe/Amsterdam
BEGIN:VEVENT
UID:event38@Piratenkoor "de Stormvogels"
DTSTAMP:20260424T191559Z
CATEGORIES:Besloten    Onb
DESCRIPTION:De Bleerinck\nCategorie: Besloten    Onb\nLink: http://piratenk
 oor.destormvogels.nl/index.php?option=com_jem&view=event&id=38:optreden-in
 -de-bleerinck\n
DTSTART;TZID=Europe/Amsterdam:20121101T134500
DTEND;TZID=Europe/Amsterdam:20121101T144500
LOCATION:de Bleerinck\, Emmen\,Spehornerbrink 1\,7812 KA Emmen
SUMMARY:De Bleerinck
URL:http://piratenkoor.destormvogels.nl/index.php?option=com_jem&view=event
 &id=38:optreden-in-de-bleerinck
END:VEVENT
END:VCALENDAR