BEGIN:VCALENDAR
VERSION:2.0
PRODID:-//213.154.231.201//NONSGML kigkonsult.se iCalcreator 2.20//
CALSCALE:GREGORIAN
METHOD:PUBLISH
X-WR-TIMEZONE:Europe/Amsterdam
BEGIN:VEVENT
UID:event390@Piratenkoor "de Stormvogels"
DTSTAMP:20260425T151700Z
CATEGORIES:Openbaar   Derden
DESCRIPTION:Haarlo\nCategorie: Openbaar   Derden\nLink: http://piratenkoor.
 destormvogels.nl/index.php?option=com_jem&view=event&id=390:haarlo\n
DTSTART;TZID=Europe/Amsterdam:20220313T143000
DTEND;TZID=Europe/Amsterdam:20220313T170000
LOCATION:HCR Prinsen\,Eibergseweg 13\,7273 SP Haarlo
SUMMARY:Haarlo
URL:http://piratenkoor.destormvogels.nl/index.php?option=com_jem&view=event
 &id=390:haarlo
END:VEVENT
END:VCALENDAR