BEGIN:VCALENDAR
VERSION:2.0
PRODID:-//213.154.231.201//NONSGML kigkonsult.se iCalcreator 2.20//
CALSCALE:GREGORIAN
METHOD:PUBLISH
X-WR-TIMEZONE:Europe/Amsterdam
BEGIN:VEVENT
UID:event394@Piratenkoor "de Stormvogels"
DTSTAMP:20260424T175724Z
CATEGORIES:Openbaar     G.i.
DESCRIPTION:Oldtimerdag de Krim\nCategorie: Openbaar     G.i.\nLink: http:/
 /piratenkoor.destormvogels.nl/index.php?option=com_jem&view=event&id=394:o
 ldtimerdag-de-krim\n
DTSTART;TZID=Europe/Amsterdam:20220528T130000
DTEND;TZID=Europe/Amsterdam:20220528T170000
LOCATION:de Krim\,Beukenlaan 1a\,7782 RP de Krim
SUMMARY:Oldtimerdag de Krim
URL:http://piratenkoor.destormvogels.nl/index.php?option=com_jem&view=event
 &id=394:oldtimerdag-de-krim
END:VEVENT
END:VCALENDAR