BEGIN:VCALENDAR
VERSION:2.0
PRODID:-//213.154.231.201//NONSGML kigkonsult.se iCalcreator 2.20//
CALSCALE:GREGORIAN
METHOD:PUBLISH
X-WR-TIMEZONE:Europe/Amsterdam
BEGIN:VEVENT
UID:event395@Piratenkoor "de Stormvogels"
DTSTAMP:20260425T005806Z
CATEGORIES:Besloten    K.i.
DESCRIPTION:De Statenhoek\nCategorie: Besloten    K.i.\nLink: http://pirate
 nkoor.destormvogels.nl/index.php?option=com_jem&view=event&id=395:de-state
 nhoek\n
DTSTART;TZID=Europe/Amsterdam:20220517T193000
DTEND;TZID=Europe/Amsterdam:20220517T220000
LOCATION:Emmen\, Angelslo\,Emmen
SUMMARY:De Statenhoek
URL:http://piratenkoor.destormvogels.nl/index.php?option=com_jem&view=event
 &id=395:de-statenhoek
END:VEVENT
END:VCALENDAR