BEGIN:VCALENDAR
VERSION:2.0
PRODID:-//213.154.231.201//NONSGML kigkonsult.se iCalcreator 2.20//
CALSCALE:GREGORIAN
METHOD:PUBLISH
X-WR-TIMEZONE:Europe/Amsterdam
BEGIN:VEVENT
UID:event396@Piratenkoor "de Stormvogels"
DTSTAMP:20260425T021031Z
CATEGORIES:Openbaar    K.i.
DESCRIPTION:Benefietgala voor Oekraine\nCategorie: Openbaar    K.i.\nLink: 
 http://piratenkoor.destormvogels.nl/index.php?option=com_jem&view=event&id
 =396:benefietgala-voor-oekraine\n
DTSTART;TZID=Europe/Amsterdam:20220529T140000
DTEND;TZID=Europe/Amsterdam:20220529T163000
LOCATION:Atlas theater\,Raadhuisplein 100\,7811 AP Emmen
SUMMARY:Benefietgala voor Oekraine
URL:http://piratenkoor.destormvogels.nl/index.php?option=com_jem&view=event
 &id=396:benefietgala-voor-oekraine
END:VEVENT
END:VCALENDAR