BEGIN:VCALENDAR
VERSION:2.0
PRODID:-//213.154.231.201//NONSGML kigkonsult.se iCalcreator 2.20//
CALSCALE:GREGORIAN
METHOD:PUBLISH
X-WR-TIMEZONE:Europe/Amsterdam
BEGIN:VEVENT
UID:event399@Piratenkoor "de Stormvogels"
DTSTAMP:20260425T171129Z
CATEGORIES:Besloten    K.i.
DESCRIPTION:Heidehiem\nCategorie: Besloten    K.i.\nLink: http://piratenkoo
 r.destormvogels.nl/index.php?option=com_jem&view=event&id=399:heidehiem\n
DTSTART;TZID=Europe/Amsterdam:20220712T190000
DTEND;TZID=Europe/Amsterdam:20220712T210000
LOCATION:Emmen\, Emmermeer\,Emmen
SUMMARY:Heidehiem
URL:http://piratenkoor.destormvogels.nl/index.php?option=com_jem&view=event
 &id=399:heidehiem
END:VEVENT
END:VCALENDAR