BEGIN:VCALENDAR
VERSION:2.0
PRODID:-//213.154.231.201//NONSGML kigkonsult.se iCalcreator 2.20//
CALSCALE:GREGORIAN
METHOD:PUBLISH
X-WR-TIMEZONE:Europe/Amsterdam
BEGIN:VEVENT
UID:event39@Piratenkoor "de Stormvogels"
DTSTAMP:20260424T132014Z
CATEGORIES:Openbaar    Onb
DESCRIPTION:Feest In Fresenburg\nCategorie: Openbaar    Onb\nLink: http://p
 iratenkoor.destormvogels.nl/index.php?option=com_jem&view=event&id=39:fees
 tavond-fresenburg\n
DTSTART;VALUE=DATE:20121110
DTEND;VALUE=DATE:20121111
LOCATION:Fresenburg (D)\,Fresenburg
SUMMARY:Feest In Fresenburg
URL:http://piratenkoor.destormvogels.nl/index.php?option=com_jem&view=event
 &id=39:feestavond-fresenburg
END:VEVENT
END:VCALENDAR