BEGIN:VCALENDAR
VERSION:2.0
PRODID:-//213.154.231.201//NONSGML kigkonsult.se iCalcreator 2.20//
CALSCALE:GREGORIAN
METHOD:PUBLISH
X-WR-TIMEZONE:Europe/Amsterdam
BEGIN:VEVENT
UID:event3@Piratenkoor "de Stormvogels"
DTSTAMP:20260425T134519Z
CATEGORIES:Besloten    Onb
DESCRIPTION:Nieuwjaarsbijeenkomst\nCategorie: Besloten    Onb\nLink: http:/
 /piratenkoor.destormvogels.nl/index.php?option=com_jem&view=event&id=3:nie
 uwjaarsbijeenkomst\n
DTSTART;TZID=Europe/Amsterdam:20120107T200000
DTEND;TZID=Europe/Amsterdam:20120107T230000
LOCATION:'t Schienvat op Erica\,Heidebloemstraat 4\,7887 EB Erica
SUMMARY:Nieuwjaarsbijeenkomst
URL:http://piratenkoor.destormvogels.nl/index.php?option=com_jem&view=event
 &id=3:nieuwjaarsbijeenkomst
END:VEVENT
END:VCALENDAR