BEGIN:VCALENDAR
VERSION:2.0
PRODID:-//213.154.231.201//NONSGML kigkonsult.se iCalcreator 2.20//
CALSCALE:GREGORIAN
METHOD:PUBLISH
X-WR-TIMEZONE:Europe/Amsterdam
BEGIN:VEVENT
UID:event400@Piratenkoor "de Stormvogels"
DTSTAMP:20260424T191600Z
CATEGORIES:Openbaar     G.i.
DESCRIPTION:matjesdagen Apen\nCategorie: Openbaar     G.i.\nLink: http://pi
 ratenkoor.destormvogels.nl/index.php?option=com_jem&view=event&id=400:matj
 esdagen-apen\n
DTSTART;TZID=Europe/Amsterdam:20220619T110000
DTEND;TZID=Europe/Amsterdam:20220619T163000
LOCATION:Apen (D)\,An der Wiek 30\,26689 Apen
SUMMARY:matjesdagen Apen
URL:http://piratenkoor.destormvogels.nl/index.php?option=com_jem&view=event
 &id=400:matjesdagen-apen
END:VEVENT
END:VCALENDAR