BEGIN:VCALENDAR
VERSION:2.0
PRODID:-//213.154.231.201//NONSGML kigkonsult.se iCalcreator 2.20//
CALSCALE:GREGORIAN
METHOD:PUBLISH
X-WR-TIMEZONE:Europe/Amsterdam
BEGIN:VEVENT
UID:event401@Piratenkoor "de Stormvogels"
DTSTAMP:20260424T155242Z
CATEGORIES:Besloten    K.i.
DESCRIPTION:de Kibbelhof\nCategorie: Besloten    K.i.\nLink: http://piraten
 koor.destormvogels.nl/index.php?option=com_jem&view=event&id=401:de-kibbel
 hof\n
DTSTART;TZID=Europe/Amsterdam:20220614T193000
DTEND;TZID=Europe/Amsterdam:20220614T193000
LOCATION:Schoonoord\,Kibbelveen 1\,7848 TA Schoonoord
SUMMARY:de Kibbelhof
URL:http://piratenkoor.destormvogels.nl/index.php?option=com_jem&view=event
 &id=401:de-kibbelhof
END:VEVENT
END:VCALENDAR