BEGIN:VCALENDAR
VERSION:2.0
PRODID:-//213.154.231.201//NONSGML kigkonsult.se iCalcreator 2.20//
CALSCALE:GREGORIAN
METHOD:PUBLISH
X-WR-TIMEZONE:Europe/Amsterdam
BEGIN:VEVENT
UID:event404@Piratenkoor "de Stormvogels"
DTSTAMP:20260424T192932Z
CATEGORIES:Besloten    Onb
DESCRIPTION:nieuwjaars bijeenkomst\nCategorie: Besloten    Onb\nLink: http:
 //piratenkoor.destormvogels.nl/index.php?option=com_jem&view=event&id=404:
 nieuwjaars-bijeenkomst\n
DTSTART;TZID=Europe/Amsterdam:20230107T200000
DTEND;TZID=Europe/Amsterdam:20230107T200000
LOCATION:'t Schienvat op Erica\,Heidebloemstraat 4\,7887 EB Erica
SUMMARY:nieuwjaars bijeenkomst
URL:http://piratenkoor.destormvogels.nl/index.php?option=com_jem&view=event
 &id=404:nieuwjaars-bijeenkomst
END:VEVENT
END:VCALENDAR