BEGIN:VCALENDAR
VERSION:2.0
PRODID:-//213.154.231.201//NONSGML kigkonsult.se iCalcreator 2.20//
CALSCALE:GREGORIAN
METHOD:PUBLISH
X-WR-TIMEZONE:Europe/Amsterdam
BEGIN:VEVENT
UID:event407@Piratenkoor "de Stormvogels"
DTSTAMP:20260424T115313Z
CATEGORIES:Besloten    K.i.
DESCRIPTION:de Schans\nCategorie: Besloten    K.i.\nLink: http://piratenkoo
 r.destormvogels.nl/index.php?option=com_jem&view=event&id=407:de-schans\n
DTSTART;TZID=Europe/Amsterdam:20230427T100000
DTEND;TZID=Europe/Amsterdam:20230427T120000
LOCATION:de Schans\, Emmen\,Laan van Het Kwekebos 118\,7823 LJ Emmen
SUMMARY:de Schans
URL:http://piratenkoor.destormvogels.nl/index.php?option=com_jem&view=event
 &id=407:de-schans
END:VEVENT
END:VCALENDAR