BEGIN:VCALENDAR
VERSION:2.0
PRODID:-//213.154.231.201//NONSGML kigkonsult.se iCalcreator 2.20//
CALSCALE:GREGORIAN
METHOD:PUBLISH
X-WR-TIMEZONE:Europe/Amsterdam
BEGIN:VEVENT
UID:event408@Piratenkoor "de Stormvogels"
DTSTAMP:20260424T132014Z
CATEGORIES:Openbaar     G.i.
DESCRIPTION:Kartoffelmarkt\nCategorie: Openbaar     G.i.\nLink: http://pira
 tenkoor.destormvogels.nl/index.php?option=com_jem&view=event&id=408:kartof
 felmarkt\n
DTSTART;TZID=Europe/Amsterdam:20230910T150000
DTEND;TZID=Europe/Amsterdam:20230910T173000
LOCATION:Wesuwe (D)\,Czerlitzkastrasse 2\,49733 Wesuwe
SUMMARY:Kartoffelmarkt
URL:http://piratenkoor.destormvogels.nl/index.php?option=com_jem&view=event
 &id=408:kartoffelmarkt
END:VEVENT
END:VCALENDAR