BEGIN:VCALENDAR
VERSION:2.0
PRODID:-//213.154.231.201//NONSGML kigkonsult.se iCalcreator 2.20//
CALSCALE:GREGORIAN
METHOD:PUBLISH
X-WR-TIMEZONE:Europe/Amsterdam
BEGIN:VEVENT
UID:event40@Piratenkoor "de Stormvogels"
DTSTAMP:20260424T191005Z
CATEGORIES:Besloten    Onb
DESCRIPTION:Laatste repetitie-avond\nCategorie: Besloten    Onb\nLink: http
 ://piratenkoor.destormvogels.nl/index.php?option=com_jem&view=event&id=40:
 laatste-repetitieavond\n
DTSTART;TZID=Europe/Amsterdam:20121218T200000
DTEND;TZID=Europe/Amsterdam:20121218T220000
LOCATION:'t Schienvat op Erica\,Heidebloemstraat 4\,7887 EB Erica
SUMMARY:Laatste repetitie-avond
URL:http://piratenkoor.destormvogels.nl/index.php?option=com_jem&view=event
 &id=40:laatste-repetitieavond
END:VEVENT
END:VCALENDAR