BEGIN:VCALENDAR
VERSION:2.0
PRODID:-//213.154.231.201//NONSGML kigkonsult.se iCalcreator 2.20//
CALSCALE:GREGORIAN
METHOD:PUBLISH
X-WR-TIMEZONE:Europe/Amsterdam
BEGIN:VEVENT
UID:event410@Piratenkoor "de Stormvogels"
DTSTAMP:20260425T104711Z
CATEGORIES:Openbaar     G.i.
DESCRIPTION:Open Air festival\nCategorie: Openbaar     G.i.\nLink: http://p
 iratenkoor.destormvogels.nl/index.php?option=com_jem&view=event&id=410:ope
 n-air-festival\n
DTSTART;TZID=Europe/Amsterdam:20230813T150000
DTEND;TZID=Europe/Amsterdam:20230813T170000
LOCATION:Geeste (D)\,Geeste 
SUMMARY:Open Air festival
URL:http://piratenkoor.destormvogels.nl/index.php?option=com_jem&view=event
 &id=410:open-air-festival
END:VEVENT
END:VCALENDAR