BEGIN:VCALENDAR
VERSION:2.0
PRODID:-//213.154.231.201//NONSGML kigkonsult.se iCalcreator 2.20//
CALSCALE:GREGORIAN
METHOD:PUBLISH
X-WR-TIMEZONE:Europe/Amsterdam
BEGIN:VEVENT
UID:event411@Piratenkoor "de Stormvogels"
DTSTAMP:20260424T115312Z
CATEGORIES:Openbaar   Derden
DESCRIPTION:Sailing Cup \nCategorie: Openbaar   Derden\nLink: http://pirate
 nkoor.destormvogels.nl/index.php?option=com_jem&view=event&id=411:sailing-
 cup\n
DTSTART;TZID=Europe/Amsterdam:20230930T120000
DTEND;TZID=Europe/Amsterdam:20231001T170000
LOCATION:Wilhelmshaven (D)\,Bontekai\,26382 Wilhelmshaven
SUMMARY:Sailing Cup 
URL:http://piratenkoor.destormvogels.nl/index.php?option=com_jem&view=event
 &id=411:sailing-cup
END:VEVENT
END:VCALENDAR