BEGIN:VCALENDAR
VERSION:2.0
PRODID:-//213.154.231.201//NONSGML kigkonsult.se iCalcreator 2.20//
CALSCALE:GREGORIAN
METHOD:PUBLISH
X-WR-TIMEZONE:Europe/Amsterdam
BEGIN:VEVENT
UID:event412@Piratenkoor "de Stormvogels"
DTSTAMP:20260424T191737Z
CATEGORIES:Besloten    K.i.
DESCRIPTION:Oringermarke\nCategorie: Besloten    K.i.\nLink: http://piraten
 koor.destormvogels.nl/index.php?option=com_jem&view=event&id=412:oringerma
 rke\n
DTSTART;TZID=Europe/Amsterdam:20230620T190000
DTEND;TZID=Europe/Amsterdam:20230620T210000
LOCATION:Odoorn\,Odoorn
SUMMARY:Oringermarke
URL:http://piratenkoor.destormvogels.nl/index.php?option=com_jem&view=event
 &id=412:oringermarke
END:VEVENT
END:VCALENDAR