BEGIN:VCALENDAR
VERSION:2.0
PRODID:-//213.154.231.201//NONSGML kigkonsult.se iCalcreator 2.20//
CALSCALE:GREGORIAN
METHOD:PUBLISH
X-WR-TIMEZONE:Europe/Amsterdam
BEGIN:VEVENT
UID:event413@Piratenkoor "de Stormvogels"
DTSTAMP:20260424T163440Z
CATEGORIES:Openbaar   Derden
DESCRIPTION:Open Havendagen\nCategorie: Openbaar   Derden\nLink: http://pir
 atenkoor.destormvogels.nl/index.php?option=com_jem&view=event&id=413:open-
 havendagen\n
DTSTART;TZID=Europe/Amsterdam:20230701T120000
DTEND;TZID=Europe/Amsterdam:20230701T170000
LOCATION:Werkendam\,Hoogstraat\,Werkendam
SUMMARY:Open Havendagen
URL:http://piratenkoor.destormvogels.nl/index.php?option=com_jem&view=event
 &id=413:open-havendagen
END:VEVENT
END:VCALENDAR