BEGIN:VCALENDAR
VERSION:2.0
PRODID:-//213.154.231.201//NONSGML kigkonsult.se iCalcreator 2.20//
CALSCALE:GREGORIAN
METHOD:PUBLISH
X-WR-TIMEZONE:Europe/Amsterdam
BEGIN:VEVENT
UID:event414@Piratenkoor "de Stormvogels"
DTSTAMP:20260424T191603Z
CATEGORIES:Openbaar     G.i.
DESCRIPTION:Abel Tasman Struuntocht\nCategorie: Openbaar     G.i.\nLink: ht
 tp://piratenkoor.destormvogels.nl/index.php?option=com_jem&view=event&id=4
 14:abel-tasman-struuntocht\n
DTSTART;TZID=Europe/Amsterdam:20230909T120000
DTEND;TZID=Europe/Amsterdam:20230909T160000
LOCATION:Lutjegast\,Lutjegast
SUMMARY:Abel Tasman Struuntocht
URL:http://piratenkoor.destormvogels.nl/index.php?option=com_jem&view=event
 &id=414:abel-tasman-struuntocht
END:VEVENT
END:VCALENDAR