BEGIN:VCALENDAR
VERSION:2.0
PRODID:-//213.154.231.201//NONSGML kigkonsult.se iCalcreator 2.20//
CALSCALE:GREGORIAN
METHOD:PUBLISH
X-WR-TIMEZONE:Europe/Amsterdam
BEGIN:VEVENT
UID:event417@Piratenkoor "de Stormvogels"
DTSTAMP:20260424T191606Z
CATEGORIES:Openbaar     G.i.
DESCRIPTION:Haren\nCategorie: Openbaar     G.i.\nLink: http://piratenkoor.d
 estormvogels.nl/index.php?option=com_jem&view=event&id=417:haren\n
DTSTART;TZID=Europe/Amsterdam:20230514T150000
DTEND;TZID=Europe/Amsterdam:20230514T180000
LOCATION:Heimatverein Haren (Ems) (D)\,Schleusenstraße\,49733 Haren
SUMMARY:Haren
URL:http://piratenkoor.destormvogels.nl/index.php?option=com_jem&view=event
 &id=417:haren
END:VEVENT
END:VCALENDAR