BEGIN:VCALENDAR
VERSION:2.0
PRODID:-//213.154.231.201//NONSGML kigkonsult.se iCalcreator 2.20//
CALSCALE:GREGORIAN
METHOD:PUBLISH
X-WR-TIMEZONE:Europe/Amsterdam
BEGIN:VEVENT
UID:event418@Piratenkoor "de Stormvogels"
DTSTAMP:20260424T175723Z
CATEGORIES:Openbaar    K.i.
DESCRIPTION:Holdert\nCategorie: Openbaar    K.i.\nLink: http://piratenkoor.
 destormvogels.nl/index.php?option=com_jem&view=event&id=418:holdert\n
DTSTART;TZID=Europe/Amsterdam:20230413T193000
DTEND;TZID=Europe/Amsterdam:20230413T213000
LOCATION:de Holdert\, Emmen\,Hondsrugweg 101\,7811 AB Emmen
SUMMARY:Holdert
URL:http://piratenkoor.destormvogels.nl/index.php?option=com_jem&view=event
 &id=418:holdert
END:VEVENT
END:VCALENDAR