BEGIN:VCALENDAR
VERSION:2.0
PRODID:-//213.154.231.201//NONSGML kigkonsult.se iCalcreator 2.20//
CALSCALE:GREGORIAN
METHOD:PUBLISH
X-WR-TIMEZONE:Europe/Amsterdam
BEGIN:VEVENT
UID:event41@Piratenkoor "de Stormvogels"
DTSTAMP:20260424T175725Z
CATEGORIES:Besloten    Onb
DESCRIPTION:Winter-Fair\nCategorie: Besloten    Onb\nLink: http://piratenko
 or.destormvogels.nl/index.php?option=com_jem&view=event&id=41:winter-fair
 \n
DTSTART;TZID=Europe/Amsterdam:20121221T130000
DTEND;TZID=Europe/Amsterdam:20121221T170000
LOCATION:Emmen\, Noordbarge\,Huizingsbrinkweg\,7812 BL Emmen
SUMMARY:Winter-Fair
URL:http://piratenkoor.destormvogels.nl/index.php?option=com_jem&view=event
 &id=41:winter-fair
END:VEVENT
END:VCALENDAR