BEGIN:VCALENDAR
VERSION:2.0
PRODID:-//213.154.231.201//NONSGML kigkonsult.se iCalcreator 2.20//
CALSCALE:GREGORIAN
METHOD:PUBLISH
X-WR-TIMEZONE:Europe/Amsterdam
BEGIN:VEVENT
UID:event422@Piratenkoor "de Stormvogels"
DTSTAMP:20260424T224441Z
CATEGORIES:Openbaar    K.i.
DESCRIPTION:Emmerdennenhuis\nCategorie: Openbaar    K.i.\nLink: http://pira
 tenkoor.destormvogels.nl/index.php?option=com_jem&view=event&id=422:emmerd
 ennenhuis\n
DTSTART;TZID=Europe/Amsterdam:20230607T133000
DTEND;TZID=Europe/Amsterdam:20230607T160000
LOCATION:Emmerdennenhuis\, Emmen\,Ravelijn 104\,7812 TG Emmen
SUMMARY:Emmerdennenhuis
URL:http://piratenkoor.destormvogels.nl/index.php?option=com_jem&view=event
 &id=422:emmerdennenhuis
END:VEVENT
END:VCALENDAR