BEGIN:VCALENDAR
VERSION:2.0
PRODID:-//213.154.231.201//NONSGML kigkonsult.se iCalcreator 2.20//
CALSCALE:GREGORIAN
METHOD:PUBLISH
X-WR-TIMEZONE:Europe/Amsterdam
BEGIN:VEVENT
UID:event424@Piratenkoor "de Stormvogels"
DTSTAMP:20260424T163440Z
CATEGORIES:Openbaar     G.i.
DESCRIPTION:Coevorder Havendagen\nCategorie: Openbaar     G.i.\nLink: http:
 //piratenkoor.destormvogels.nl/index.php?option=com_jem&view=event&id=424:
 coevorder-havendagen\n
DTSTART;TZID=Europe/Amsterdam:20230716T113000
DTEND;TZID=Europe/Amsterdam:20230716T180000
LOCATION:Coevorden\,Coevorden
SUMMARY:Coevorder Havendagen
URL:http://piratenkoor.destormvogels.nl/index.php?option=com_jem&view=event
 &id=424:coevorder-havendagen
END:VEVENT
END:VCALENDAR