BEGIN:VCALENDAR
VERSION:2.0
PRODID:-//213.154.231.201//NONSGML kigkonsult.se iCalcreator 2.20//
CALSCALE:GREGORIAN
METHOD:PUBLISH
X-WR-TIMEZONE:Europe/Amsterdam
BEGIN:VEVENT
UID:event426@Piratenkoor "de Stormvogels"
DTSTAMP:20260425T151701Z
CATEGORIES:Openbaar    K.i.
DESCRIPTION:Borgerhof\nCategorie: Openbaar    K.i.\nLink: http://piratenkoo
 r.destormvogels.nl/index.php?option=com_jem&view=event&id=426:borgerhof\n
DTSTART;TZID=Europe/Amsterdam:20231004T190000
DTEND;TZID=Europe/Amsterdam:20231004T210000
LOCATION:Borger\,Grote Brink 2\,9531 AL Borger
SUMMARY:Borgerhof
URL:http://piratenkoor.destormvogels.nl/index.php?option=com_jem&view=event
 &id=426:borgerhof
END:VEVENT
END:VCALENDAR