BEGIN:VCALENDAR
VERSION:2.0
PRODID:-//213.154.231.201//NONSGML kigkonsult.se iCalcreator 2.20//
CALSCALE:GREGORIAN
METHOD:PUBLISH
X-WR-TIMEZONE:Europe/Amsterdam
BEGIN:VEVENT
UID:event427@Piratenkoor "de Stormvogels"
DTSTAMP:20260424T175718Z
CATEGORIES:Openbaar     G.i.
DESCRIPTION:Fietsvierdaagse 2023\nCategorie: Openbaar     G.i.\nLink: http:
 //piratenkoor.destormvogels.nl/index.php?option=com_jem&view=event&id=427:
 fietsvierdaagse-2023\n
DTSTART;TZID=Europe/Amsterdam:20230727T193000
DTEND;TZID=Europe/Amsterdam:20230727T213000
LOCATION:Emmen\, Sportpark Angelslo\,Sint Gerardusstraat 250\,7825 TW Emmen
SUMMARY:Fietsvierdaagse 2023
URL:http://piratenkoor.destormvogels.nl/index.php?option=com_jem&view=event
 &id=427:fietsvierdaagse-2023
END:VEVENT
END:VCALENDAR