BEGIN:VCALENDAR
VERSION:2.0
PRODID:-//213.154.231.201//NONSGML kigkonsult.se iCalcreator 2.20//
CALSCALE:GREGORIAN
METHOD:PUBLISH
X-WR-TIMEZONE:Europe/Amsterdam
BEGIN:VEVENT
UID:event429@Piratenkoor "de Stormvogels"
DTSTAMP:20260424T183605Z
CATEGORIES:Openbaar     G.i.
DESCRIPTION:Korenmiddag\nCategorie: Openbaar     G.i.\nLink: http://piraten
 koor.destormvogels.nl/index.php?option=com_jem&view=event&id=429:korenmidd
 ag\n
DTSTART;TZID=Europe/Amsterdam:20230819T130000
DTEND;TZID=Europe/Amsterdam:20230819T170000
LOCATION:Coevorden\,Coevorden
SUMMARY:Korenmiddag
URL:http://piratenkoor.destormvogels.nl/index.php?option=com_jem&view=event
 &id=429:korenmiddag
END:VEVENT
END:VCALENDAR