BEGIN:VCALENDAR
VERSION:2.0
PRODID:-//213.154.231.201//NONSGML kigkonsult.se iCalcreator 2.20//
CALSCALE:GREGORIAN
METHOD:PUBLISH
X-WR-TIMEZONE:Europe/Amsterdam
BEGIN:VEVENT
UID:event432@Piratenkoor "de Stormvogels"
DTSTAMP:20260424T212513Z
CATEGORIES:Besloten    K.i.
DESCRIPTION:De Zonnebloem\nCategorie: Besloten    K.i.\nLink: http://pirate
 nkoor.destormvogels.nl/index.php?option=com_jem&view=event&id=432:de-zonne
 bloem\n
DTSTART;TZID=Europe/Amsterdam:20240124T140000
DTEND;TZID=Europe/Amsterdam:20240124T160000
LOCATION:'t Schienvat op Erica\,Heidebloemstraat 4\,7887 EB Erica
SUMMARY:De Zonnebloem
URL:http://piratenkoor.destormvogels.nl/index.php?option=com_jem&view=event
 &id=432:de-zonnebloem
END:VEVENT
END:VCALENDAR