BEGIN:VCALENDAR
VERSION:2.0
PRODID:-//213.154.231.201//NONSGML kigkonsult.se iCalcreator 2.20//
CALSCALE:GREGORIAN
METHOD:PUBLISH
X-WR-TIMEZONE:Europe/Amsterdam
BEGIN:VEVENT
UID:event439@Piratenkoor "de Stormvogels"
DTSTAMP:20260425T121633Z
CATEGORIES:Besloten    Onb
DESCRIPTION:Algemene ledenvergadering\nCategorie: Besloten    Onb\nLink: ht
 tp://piratenkoor.destormvogels.nl/index.php?option=com_jem&view=event&id=4
 39:algemene-ledenvergadering\n
DTSTART;TZID=Europe/Amsterdam:20240227T193000
DTEND;TZID=Europe/Amsterdam:20240227T193000
LOCATION:'t Schienvat op Erica\,Heidebloemstraat 4\,7887 EB Erica
SUMMARY:Algemene ledenvergadering
URL:http://piratenkoor.destormvogels.nl/index.php?option=com_jem&view=event
 &id=439:algemene-ledenvergadering
END:VEVENT
END:VCALENDAR