BEGIN:VCALENDAR
VERSION:2.0
PRODID:-//213.154.231.201//NONSGML kigkonsult.se iCalcreator 2.20//
CALSCALE:GREGORIAN
METHOD:PUBLISH
X-WR-TIMEZONE:Europe/Amsterdam
BEGIN:VEVENT
UID:event43@Piratenkoor "de Stormvogels"
DTSTAMP:20260424T192013Z
CATEGORIES:Openbaar    Onb
DESCRIPTION:Nieuwjaars-bijeenkomst\nCategorie: Openbaar    Onb\nLink: http:
 //piratenkoor.destormvogels.nl/index.php?option=com_jem&view=event&id=43:n
 ieuwjaarsbijeenkomst\n
DTSTART;TZID=Europe/Amsterdam:20130105T200000
DTEND;TZID=Europe/Amsterdam:20130105T220000
LOCATION:'t Schienvat op Erica\,Heidebloemstraat 4\,7887 EB Erica
SUMMARY:Nieuwjaars-bijeenkomst
URL:http://piratenkoor.destormvogels.nl/index.php?option=com_jem&view=event
 &id=43:nieuwjaarsbijeenkomst
END:VEVENT
END:VCALENDAR