BEGIN:VCALENDAR
VERSION:2.0
PRODID:-//213.154.231.201//NONSGML kigkonsult.se iCalcreator 2.20//
CALSCALE:GREGORIAN
METHOD:PUBLISH
X-WR-TIMEZONE:Europe/Amsterdam
BEGIN:VEVENT
UID:event440@Piratenkoor "de Stormvogels"
DTSTAMP:20260424T191557Z
CATEGORIES:Besloten    K.i.
DESCRIPTION:De Holdert Emmen\nCategorie: Besloten    K.i.\nLink: http://pir
 atenkoor.destormvogels.nl/index.php?option=com_jem&view=event&id=440:de-ho
 rst-emmen\n
DTSTART;TZID=Europe/Amsterdam:20240111T193000
DTEND;TZID=Europe/Amsterdam:20240111T213000
LOCATION:De Holdert Emmen\,Hondsrugweg 101\,7811 AB Emmen
SUMMARY:De Holdert Emmen
URL:http://piratenkoor.destormvogels.nl/index.php?option=com_jem&view=event
 &id=440:de-horst-emmen
END:VEVENT
END:VCALENDAR