BEGIN:VCALENDAR
VERSION:2.0
PRODID:-//213.154.231.201//NONSGML kigkonsult.se iCalcreator 2.20//
CALSCALE:GREGORIAN
METHOD:PUBLISH
X-WR-TIMEZONE:Europe/Amsterdam
BEGIN:VEVENT
UID:event441@Piratenkoor "de Stormvogels"
DTSTAMP:20260424T191741Z
CATEGORIES:Besloten    K.i.
DESCRIPTION:Zuidermarke Emmen\nCategorie: Besloten    K.i.\nLink: http://pi
 ratenkoor.destormvogels.nl/index.php?option=com_jem&view=event&id=441:zuid
 ermarke-emmen\n
DTSTART;TZID=Europe/Amsterdam:20240130T190000
DTEND;TZID=Europe/Amsterdam:20240130T210000
LOCATION:Woonzorgcentrum Zuidermarke\,Wilhelminastraat 8\,7811 JA Emmen
SUMMARY:Zuidermarke Emmen
URL:http://piratenkoor.destormvogels.nl/index.php?option=com_jem&view=event
 &id=441:zuidermarke-emmen
END:VEVENT
END:VCALENDAR