BEGIN:VCALENDAR
VERSION:2.0
PRODID:-//213.154.231.201//NONSGML kigkonsult.se iCalcreator 2.20//
CALSCALE:GREGORIAN
METHOD:PUBLISH
X-WR-TIMEZONE:Europe/Amsterdam
BEGIN:VEVENT
UID:event442@Piratenkoor "de Stormvogels"
DTSTAMP:20260424T164248Z
CATEGORIES:Openbaar     G.i.
DESCRIPTION:Voetbalvereniging Drenthina\nCategorie: Openbaar     G.i.\nLink
 : http://piratenkoor.destormvogels.nl/index.php?option=com_jem&view=event&
 id=442:voetbalvereniging-drenthina\n
DTSTART;TZID=Europe/Amsterdam:20240622T150000
DTEND;TZID=Europe/Amsterdam:20240622T170000
LOCATION:Sportpark Oude Ros\,Oude Roswinkelerweg 112\,7814 RT Emmen
SUMMARY:Voetbalvereniging Drenthina
URL:http://piratenkoor.destormvogels.nl/index.php?option=com_jem&view=event
 &id=442:voetbalvereniging-drenthina
END:VEVENT
END:VCALENDAR