BEGIN:VCALENDAR
VERSION:2.0
PRODID:-//213.154.231.201//NONSGML kigkonsult.se iCalcreator 2.20//
CALSCALE:GREGORIAN
METHOD:PUBLISH
X-WR-TIMEZONE:Europe/Amsterdam
BEGIN:VEVENT
UID:event446@Piratenkoor "de Stormvogels"
DTSTAMP:20260424T163434Z
CATEGORIES:Openbaar   Derden
DESCRIPTION:Sailing Cup Wilhelmshaven\nCategorie: Openbaar   Derden\nLink: 
 http://piratenkoor.destormvogels.nl/index.php?option=com_jem&view=event&id
 =446:sailing-cup-wilhelmshaven\n
DTSTART;TZID=Europe/Amsterdam:20240928T143000
DTEND;TZID=Europe/Amsterdam:20240928T170000
LOCATION:Wilhelmshaven (D)\,Bontekai\,26382 Wilhelmshaven
SUMMARY:Sailing Cup Wilhelmshaven
URL:http://piratenkoor.destormvogels.nl/index.php?option=com_jem&view=event
 &id=446:sailing-cup-wilhelmshaven
END:VEVENT
END:VCALENDAR