BEGIN:VCALENDAR
VERSION:2.0
PRODID:-//213.154.231.201//NONSGML kigkonsult.se iCalcreator 2.20//
CALSCALE:GREGORIAN
METHOD:PUBLISH
X-WR-TIMEZONE:Europe/Amsterdam
BEGIN:VEVENT
UID:event447@Piratenkoor "de Stormvogels"
DTSTAMP:20260424T104139Z
CATEGORIES:Openbaar     G.i.
DESCRIPTION:25 jarig bestaan feesttent het Perron Valthe\nCategorie: Openba
 ar     G.i.\nLink: http://piratenkoor.destormvogels.nl/index.php?option=co
 m_jem&view=event&id=447:vevo-valthe\n
DTSTART;TZID=Europe/Amsterdam:20240901T143000
DTEND;TZID=Europe/Amsterdam:20240901T170000
LOCATION:Valthe\,Valthe
SUMMARY:25 jarig bestaan feesttent het Perron Valthe
URL:http://piratenkoor.destormvogels.nl/index.php?option=com_jem&view=event
 &id=447:vevo-valthe
END:VEVENT
END:VCALENDAR