BEGIN:VCALENDAR
VERSION:2.0
PRODID:-//213.154.231.201//NONSGML kigkonsult.se iCalcreator 2.20//
CALSCALE:GREGORIAN
METHOD:PUBLISH
X-WR-TIMEZONE:Europe/Amsterdam
BEGIN:VEVENT
UID:event448@Piratenkoor "de Stormvogels"
DTSTAMP:20260424T191736Z
CATEGORIES:Besloten    K.i.
DESCRIPTION:Emmerdennenhuis\nCategorie: Besloten    K.i.\nLink: http://pira
 tenkoor.destormvogels.nl/index.php?option=com_jem&view=event&id=448:emmerd
 ennenhuis\n
DTSTART;TZID=Europe/Amsterdam:20240625T140000
DTEND;TZID=Europe/Amsterdam:20240625T150000
LOCATION:Emmerdennenhuis\, Emmen\,Ravelijn 104\,7812 TG Emmen
SUMMARY:Emmerdennenhuis
URL:http://piratenkoor.destormvogels.nl/index.php?option=com_jem&view=event
 &id=448:emmerdennenhuis
END:VEVENT
END:VCALENDAR