BEGIN:VCALENDAR
VERSION:2.0
PRODID:-//213.154.231.201//NONSGML kigkonsult.se iCalcreator 2.20//
CALSCALE:GREGORIAN
METHOD:PUBLISH
X-WR-TIMEZONE:Europe/Amsterdam
BEGIN:VEVENT
UID:event44@Piratenkoor "de Stormvogels"
DTSTAMP:20260425T014232Z
CATEGORIES:Besloten    Onb
DESCRIPTION:Eerste repetitie-avond\nCategorie: Besloten    Onb\nLink: http:
 //piratenkoor.destormvogels.nl/index.php?option=com_jem&view=event&id=44:e
 erste-repetitie-avond\n
DTSTART;TZID=Europe/Amsterdam:20130108T200000
DTEND;TZID=Europe/Amsterdam:20130108T220000
LOCATION:'t Schienvat op Erica\,Heidebloemstraat 4\,7887 EB Erica
SUMMARY:Eerste repetitie-avond
URL:http://piratenkoor.destormvogels.nl/index.php?option=com_jem&view=event
 &id=44:eerste-repetitie-avond
END:VEVENT
END:VCALENDAR