BEGIN:VCALENDAR
VERSION:2.0
PRODID:-//213.154.231.201//NONSGML kigkonsult.se iCalcreator 2.20//
CALSCALE:GREGORIAN
METHOD:PUBLISH
X-WR-TIMEZONE:Europe/Amsterdam
BEGIN:VEVENT
UID:event452@Piratenkoor "de Stormvogels"
DTSTAMP:20260424T212510Z
CATEGORIES:Openbaar   Derden
DESCRIPTION:Uitfestival 2024\nCategorie: Openbaar   Derden\nLink: http://pi
 ratenkoor.destormvogels.nl/index.php?option=com_jem&view=event&id=452:uitf
 estival-2024\n
DTSTART;TZID=Europe/Amsterdam:20240914T154000
DTEND;TZID=Europe/Amsterdam:20240914T160000
LOCATION:Rensenpark\,Hoofdstraat 18\,7811 EP Emmen
SUMMARY:Uitfestival 2024
URL:http://piratenkoor.destormvogels.nl/index.php?option=com_jem&view=event
 &id=452:uitfestival-2024
END:VEVENT
END:VCALENDAR