BEGIN:VCALENDAR
VERSION:2.0
PRODID:-//213.154.231.201//NONSGML kigkonsult.se iCalcreator 2.20//
CALSCALE:GREGORIAN
METHOD:PUBLISH
X-WR-TIMEZONE:Europe/Amsterdam
BEGIN:VEVENT
UID:event453@Piratenkoor "de Stormvogels"
DTSTAMP:20260424T175717Z
CATEGORIES:Besloten    K.i.
DESCRIPTION:Zorgcentrum de Horst\nCategorie: Besloten    K.i.\nLink: http:/
 /piratenkoor.destormvogels.nl/index.php?option=com_jem&view=event&id=453:z
 orgcentrum-de-horst\n
DTSTART;TZID=Europe/Amsterdam:20241126T190000
DTEND;TZID=Europe/Amsterdam:20241126T203000
LOCATION:Emmen\, Emmerhout\,Rondweg 97\,7825 TC Emmen
SUMMARY:Zorgcentrum de Horst
URL:http://piratenkoor.destormvogels.nl/index.php?option=com_jem&view=event
 &id=453:zorgcentrum-de-horst
END:VEVENT
END:VCALENDAR