BEGIN:VCALENDAR
VERSION:2.0
PRODID:-//213.154.231.201//NONSGML kigkonsult.se iCalcreator 2.20//
CALSCALE:GREGORIAN
METHOD:PUBLISH
X-WR-TIMEZONE:Europe/Amsterdam
BEGIN:VEVENT
UID:event454@Piratenkoor "de Stormvogels"
DTSTAMP:20260424T191549Z
CATEGORIES:Openbaar     G.i.
DESCRIPTION:Generale in 't Haantje\nCategorie: Openbaar     G.i.\nLink: htt
 p://piratenkoor.destormvogels.nl/index.php?option=com_jem&view=event&id=45
 4:generale-in-t-haantje\n
DTSTART;TZID=Europe/Amsterdam:20240827T193000
DTEND;TZID=Europe/Amsterdam:20240827T220000
LOCATION:'t Haantje\,'t Haantje 60A\,7847 TD 't Haantje
SUMMARY:Generale in 't Haantje
URL:http://piratenkoor.destormvogels.nl/index.php?option=com_jem&view=event
 &id=454:generale-in-t-haantje
END:VEVENT
END:VCALENDAR