BEGIN:VCALENDAR
VERSION:2.0
PRODID:-//213.154.231.201//NONSGML kigkonsult.se iCalcreator 2.20//
CALSCALE:GREGORIAN
METHOD:PUBLISH
X-WR-TIMEZONE:Europe/Amsterdam
BEGIN:VEVENT
UID:event456@Piratenkoor "de Stormvogels"
DTSTAMP:20260425T020855Z
CATEGORIES:Besloten    K.i.
DESCRIPTION:Tubbergen\nCategorie: Besloten    K.i.\nLink: http://piratenkoo
 r.destormvogels.nl/index.php?option=com_jem&view=event&id=456:tubbergen\n
DTSTART;TZID=Europe/Amsterdam:20241004T203000
DTEND;TZID=Europe/Amsterdam:20241004T221500
LOCATION:Tubbergen\,Tubbergen
SUMMARY:Tubbergen
URL:http://piratenkoor.destormvogels.nl/index.php?option=com_jem&view=event
 &id=456:tubbergen
END:VEVENT
END:VCALENDAR