BEGIN:VCALENDAR
VERSION:2.0
PRODID:-//213.154.231.201//NONSGML kigkonsult.se iCalcreator 2.20//
CALSCALE:GREGORIAN
METHOD:PUBLISH
X-WR-TIMEZONE:Europe/Amsterdam
BEGIN:VEVENT
UID:event458@Piratenkoor "de Stormvogels"
DTSTAMP:20260424T103714Z
CATEGORIES:Openbaar    K.i.
DESCRIPTION:De Cocon\nCategorie: Openbaar    K.i.\nLink: http://piratenkoor
 .destormvogels.nl/index.php?option=com_jem&view=event&id=458:de-cocon\n
DTSTART;TZID=Europe/Amsterdam:20250316T143000
DTEND;TZID=Europe/Amsterdam:20250316T163000
LOCATION:De Cocon\,Marktplein 114\,7811 BA Emmen
SUMMARY:De Cocon
URL:http://piratenkoor.destormvogels.nl/index.php?option=com_jem&view=event
 &id=458:de-cocon
END:VEVENT
END:VCALENDAR