BEGIN:VCALENDAR
VERSION:2.0
PRODID:-//213.154.231.201//NONSGML kigkonsult.se iCalcreator 2.20//
CALSCALE:GREGORIAN
METHOD:PUBLISH
X-WR-TIMEZONE:Europe/Amsterdam
BEGIN:VEVENT
UID:event45@Piratenkoor "de Stormvogels"
DTSTAMP:20260424T175724Z
CATEGORIES:Openbaar    Onb
DESCRIPTION:Shloss Dankern\nCategorie: Openbaar    Onb\nLink: http://pirate
 nkoor.destormvogels.nl/index.php?option=com_jem&view=event&id=45:shloss-da
 nkern\n
DTSTART;TZID=Europe/Amsterdam:20130112T130000
DTEND;TZID=Europe/Amsterdam:20130112T183000
LOCATION:Schloss Dankern (D)\,Am Tiergarten\,49733 Haren (Ems)
SUMMARY:Shloss Dankern
URL:http://piratenkoor.destormvogels.nl/index.php?option=com_jem&view=event
 &id=45:shloss-dankern
END:VEVENT
END:VCALENDAR