BEGIN:VCALENDAR
VERSION:2.0
PRODID:-//213.154.231.201//NONSGML kigkonsult.se iCalcreator 2.20//
CALSCALE:GREGORIAN
METHOD:PUBLISH
X-WR-TIMEZONE:Europe/Amsterdam
BEGIN:VEVENT
UID:event461@Piratenkoor "de Stormvogels"
DTSTAMP:20260424T103712Z
CATEGORIES:Openbaar    K.i.
DESCRIPTION:IJsbaan\nCategorie: Openbaar    K.i.\nLink: http://piratenkoor.
 destormvogels.nl/index.php?option=com_jem&view=event&id=461:schoonebeek\n
DTSTART;TZID=Europe/Amsterdam:20241221T140000
DTEND;TZID=Europe/Amsterdam:20241221T170000
LOCATION:Schoonebeek\,Schoonebeek
SUMMARY:IJsbaan
URL:http://piratenkoor.destormvogels.nl/index.php?option=com_jem&view=event
 &id=461:schoonebeek
END:VEVENT
END:VCALENDAR